BEGIN:VCALENDAR
VERSION:2.0
PRODID:spatie/icalendar-generator
DESCRIPTION:Events from IMM - Institute of Materials\, Malaysia
X-WR-CALDESC:Events from IMM - Institute of Materials\, Malaysia
REFRESH-INTERVAL;VALUE=DURATION:PT1440M
X-PUBLISHED-TTL:PT1440M
BEGIN:VTIMEZONE
TZID:Etc/GMT+0
BEGIN:STANDARD
DTSTART:20240212T150000Z
TZOFFSETFROM:+0000
TZOFFSETTO:+0000
END:STANDARD
END:VTIMEZONE
BEGIN:VTIMEZONE
TZID:UTC
BEGIN:STANDARD
DTSTART:20250725T132944Z
TZOFFSETFROM:+0000
TZOFFSETTO:+0000
END:STANDARD
END:VTIMEZONE
BEGIN:VEVENT
UID:13-13
DTSTAMP:20260421T132944Z
SUMMARY:3rd Council meeting
LOCATION:
ORGANIZER;CN=IMM Secretariat:MAILTO:nishant.smdwebtech@gmail.com
DTSTART;TZID=Etc/GMT+0:20241108T150000
DTEND;TZID=Etc/GMT+0:20241108T163000
X-ALT-DESC;FMTTYPE=TEXT/HTML:
CATEGORIES:General
URL;VALUE=URI:https://www.iomm.org.my/mc-events/3rd-council-meeting/
METHOD:PUBLISH
END:VEVENT
END:VCALENDAR