BEGIN:VCALENDAR
VERSION:2.0
PRODID:spatie/icalendar-generator
DESCRIPTION:Events from IMM - Institute of Materials\, Malaysia
X-WR-CALDESC:Events from IMM - Institute of Materials\, Malaysia
REFRESH-INTERVAL;VALUE=DURATION:PT1440M
X-PUBLISHED-TTL:PT1440M
BEGIN:VTIMEZONE
TZID:Etc/GMT+0
BEGIN:STANDARD
DTSTART:20231229T083000Z
TZOFFSETFROM:+0000
TZOFFSETTO:+0000
END:STANDARD
END:VTIMEZONE
BEGIN:VTIMEZONE
TZID:UTC
BEGIN:STANDARD
DTSTART:20250723T141224Z
TZOFFSETFROM:+0000
TZOFFSETTO:+0000
END:STANDARD
END:VTIMEZONE
BEGIN:VEVENT
UID:11-11
DTSTAMP:20260419T141224Z
SUMMARY:Materials Lecture Competition 2024 Final (MLC 2024 Final)
LOCATION:
ORGANIZER;CN=IMM Secretariat:MAILTO:nishant.smdwebtech@gmail.com
DTSTART;TZID=Etc/GMT+0:20240924T083000
DTEND;TZID=Etc/GMT+0:20240924T130000
X-ALT-DESC;FMTTYPE=TEXT/HTML:Venue: Online via Zoom platform Tue 24 Sept 20
 24 08:30 – 13:00 Malaysia Time - Kuala Lumpur
CATEGORIES:General
URL;VALUE=URI:https://www.iomm.org.my/mc-events/materials-lecture-competiti
 on-2024-final-mlc-2024-final/
METHOD:PUBLISH
END:VEVENT
END:VCALENDAR