BEGIN:VCALENDAR
VERSION:2.0
PRODID:spatie/icalendar-generator
DESCRIPTION:Events from IMM - Institute of Materials\, Malaysia
X-WR-CALDESC:Events from IMM - Institute of Materials\, Malaysia
REFRESH-INTERVAL;VALUE=DURATION:PT1440M
X-PUBLISHED-TTL:PT1440M
BEGIN:VTIMEZONE
TZID:Etc/GMT+0
BEGIN:STANDARD
DTSTART:20240202T000000Z
TZOFFSETFROM:+0000
TZOFFSETTO:+0000
END:STANDARD
END:VTIMEZONE
BEGIN:VTIMEZONE
TZID:UTC
BEGIN:STANDARD
DTSTART:20250725T101507Z
TZOFFSETFROM:+0000
TZOFFSETTO:+0000
END:STANDARD
END:VTIMEZONE
BEGIN:VEVENT
UID:15-12
DTSTAMP:20260421T101507Z
SUMMARY:IMM MFIP Certification Scheme Launch Event
LOCATION:
ORGANIZER;CN=IMM Secretariat:MAILTO:nishant.smdwebtech@gmail.com
DTSTART;TZID=Etc/GMT+0;VALUE=DATE:20241029
DTEND;TZID=Etc/GMT+0;VALUE=DATE:20241030
X-ALT-DESC;FMTTYPE=TEXT/HTML:
CATEGORIES:General
URL;VALUE=URI:https://www.iomm.org.my/mc-events/imm-mfip-certification-sche
 me-launch-event/
METHOD:PUBLISH
END:VEVENT
END:VCALENDAR