BEGIN:VCALENDAR
VERSION:2.0
PRODID:spatie/icalendar-generator
DESCRIPTION:Events from IMM - Institute of Materials\, Malaysia
X-WR-CALDESC:Events from IMM - Institute of Materials\, Malaysia
REFRESH-INTERVAL;VALUE=DURATION:PT1440M
X-PUBLISHED-TTL:PT1440M
BEGIN:VTIMEZONE
TZID:Etc/GMT+0
BEGIN:STANDARD
DTSTART:20231214T160000Z
TZOFFSETFROM:+0000
TZOFFSETTO:+0000
END:STANDARD
END:VTIMEZONE
BEGIN:VTIMEZONE
TZID:UTC
BEGIN:STANDARD
DTSTART:20250729T104017Z
TZOFFSETFROM:+0000
TZOFFSETTO:+0000
END:STANDARD
END:VTIMEZONE
BEGIN:VEVENT
UID:8-8
DTSTAMP:20260425T104017Z
SUMMARY:IMM Vibration Committee : Monthly Meeting
LOCATION:
ORGANIZER;CN=IMM Secretariat:MAILTO:nishant.smdwebtech@gmail.com
DTSTART;TZID=Etc/GMT+0:20240909T160000
DTEND;TZID=Etc/GMT+0:20240909T170000
X-ALT-DESC;FMTTYPE=TEXT/HTML:
CATEGORIES:General
URL;VALUE=URI:https://www.iomm.org.my/mc-events/imm-vibration-committee-mon
 thly-meeting/
METHOD:PUBLISH
END:VEVENT
END:VCALENDAR